BEGIN:VCALENDAR
VERSION:2.0
PRODID:-//Brava Agronegócios - ECPv4.6.11.1//NONSGML v1.0//EN
CALSCALE:GREGORIAN
METHOD:PUBLISH
X-WR-CALNAME:Brava Agronegócios
X-ORIGINAL-URL:http://bravacristalina.com.br
X-WR-CALDESC:Events for Brava Agronegócios
BEGIN:VEVENT
DTSTART;VALUE=DATE:20141202
DTEND;VALUE=DATE:20141203
DTSTAMP:20260421T113925
CREATED:20141107T114607Z
LAST-MODIFIED:20141110T234906Z
UID:372-1417478400-1417564799@bravacristalina.com.br
SUMMARY:Palestra Tecnica: Escola da Silagem
DESCRIPTION:CONVITE\nA Lallemand Animal Nutrition vai promover\, entre setembro de 2014 e fevereiro de 2015\, o\nSIMPÓSIO REGIONAL DE APERFEIÇOAMENTO EM SILAGENS – SILAGE SCHOOL 2014\nConvidamos produtores rurais\, veterinários\, zootecnistas\, agrônomos\, técnicos em agropecuária e\ndemais interessados para uma atualização nos diversos aspectos teóricos e práticos que envolvem a\nconfecção de uma silagem de qualidade.\nOs cursos são oferecidos pela Lallemand Animal Nutrition e parceiros sem custo de inscrição para os\nparticipantes. \nInscreva-se já\, as vagas são limitadas! \nPALESTRAS\nProdução de silagem de qualidade\nEdson Poppi\, Zootecnista\, MSc. em Agronegócios\, Diretor Técnico Lallemand Animal Nutrition no\nBrasil.\nEspaço Electroplastic – A importância da superlona na silagem\nEspaço Advanta Sementes – Novos conceitos na cultura de sorgo (BMR e Braquítico)\nManejo da Propriedade leiteira – Bezerras -Pré e Pós Parto\nEdson Poppi \n
URL:http://bravacristalina.com.br/evento/palestra-tecnica-escola-da-silagem/
LOCATION:Rua Aymores\, S/N\, Quadra M\, Lote 208 - Setor Oeste \, Cristalina\, Goiás\, 73850000\, Brazil
CATEGORIES:Palestra
END:VEVENT
END:VCALENDAR