BEGIN:VCALENDAR
VERSION:2.0
PRODID:-//Brava Agronegócios - ECPv4.6.11.1//NONSGML v1.0//EN
CALSCALE:GREGORIAN
METHOD:PUBLISH
X-WR-CALNAME:Brava Agronegócios
X-ORIGINAL-URL:http://bravacristalina.com.br
X-WR-CALDESC:Events for Brava Agronegócios
BEGIN:VEVENT
DTSTART;TZID=UTC+0:20150422T190000
DTEND;TZID=UTC+0:20150422T190000
DTSTAMP:20260421T113028
CREATED:20150414T184920Z
LAST-MODIFIED:20150414T185227Z
UID:526-1429729200-1429729200@bravacristalina.com.br
SUMMARY:Palestra - Biopotentes x Nematóides
DESCRIPTION:No dia 22 de abril\, às 19:00h\, o professor Jaime Maia dos Santos (UNESP-Jaboticabal)\, realizará uma palestra abordando a eficiência dos Biopotentes Farroupilha para o manejo de nematoides. Os presentes poderão se informar e receber recomendações técnicas acerca do controle dessas pragas\, bem como conhecer a ação dos Biopotentes na proteção e produtividade das lavouras. \nPara mais informações sobre os Biopotentes\, acesse: www.grupofarroupilha.com \n
URL:http://bravacristalina.com.br/evento/palestra-biopotentes-x-nematoides/
LOCATION:Cristalina\, Goiás\, 73850-000\, Brazil
CATEGORIES:Palestra
ATTACH;FMTTYPE=image/jpeg:http://bravacristalina.com.br/wp-content/uploads/2015/04/biopotentes.jpg
END:VEVENT
END:VCALENDAR