BEGIN:VCALENDAR
VERSION:2.0
PRODID:-//Brava Agronegócios - ECPv4.6.11.1//NONSGML v1.0//EN
CALSCALE:GREGORIAN
METHOD:PUBLISH
X-WR-CALNAME:Brava Agronegócios
X-ORIGINAL-URL:http://bravacristalina.com.br
X-WR-CALDESC:Events for Brava Agronegócios
BEGIN:VEVENT
DTSTART;VALUE=DATE:20140222
DTEND;VALUE=DATE:20140223
DTSTAMP:20260421T113935
CREATED:20140904T192528Z
LAST-MODIFIED:20141024T161906Z
UID:85-1393027200-1393113599@bravacristalina.com.br
SUMMARY:Dia de campo Brava – Faz. Maringá “Fazenda de Precisão”
DESCRIPTION:PROGRAMAÇÃO:\nESTAÇÃO 1 – PARCERIA EM NEGÓCIOS BRAVA AGRONEGÓCIOS \nESTAÇÃO 2 – MANEJO DA SAÚDE DO SOLO (Murillo Lobo Jr. – Eng. Agrônomo\, Dr. em Fitopatologia – Embrapa Arroz e Feijão) \nESTAÇÃO 3 – MANEJO DE LAGARTAS COM INSETICIDA BIOLÓGICO (Ihara) \nESTAÇÃO 4 – BOI IRRIGADO (Eduardo Pretto – Eng. Agrônomo Me. Gestão Agro Ambiental\, Paulo Eduardo P. Barros – Zootecnista) \nESTAÇÃO 5 – POSICIONAMENTO DE HIBRIDOS DE MILHO (Dekalb) \nESTAÇÃO 6 – ESTRATÉGIAS PARA FAZENDA DE PRECISÃO (Afonso Peche Filho – Pesquisador IAC) \nESTAÇÃO 7 – POSICIONAMENTO DE VARIEDADES DE SOJA (Tec Agro) \nESTAÇÃO 8 – FRUTICULTURA DE PRECISÃO (Theodorus Daamen – Consultor especialista em fruticultura de clima tropical) \n  \nLOCAL:\n \n\n\nPARCEIROS:\n \n
URL:http://bravacristalina.com.br/evento/dia-de-campo-brava-faz-maringa-fazenda-de-precisao/
CATEGORIES:Dia de campo
ATTACH;FMTTYPE=image/jpeg:http://bravacristalina.com.br/wp-content/uploads/2014/09/frente2.jpg
END:VEVENT
END:VCALENDAR