BEGIN:VCALENDAR
VERSION:2.0
PRODID:-//Brava Agronegócios - ECPv4.6.11.1//NONSGML v1.0//EN
CALSCALE:GREGORIAN
METHOD:PUBLISH
X-WR-CALNAME:Brava Agronegócios
X-ORIGINAL-URL:http://bravacristalina.com.br
X-WR-CALDESC:Events for Brava Agronegócios
BEGIN:VEVENT
DTSTART;VALUE=DATE:20130309
DTEND;VALUE=DATE:20130310
DTSTAMP:20260421T114523
CREATED:20140904T185641Z
LAST-MODIFIED:20141111T003624Z
UID:82-1362787200-1362873599@bravacristalina.com.br
SUMMARY:1º Dia de campo Brava – Projeto Entre Rios
DESCRIPTION:PROGRAMAÇÃO:\nEstação 01 – FRUTICULTURA (Theodorus Daamen) \ntação 02 – GESTÃO AMBIENTAL (Afonso Peche Filho) \nEstação 03 – MANEJO DE MOSCA BRANCA (Massaru Yokoyama) \nEstação 04 – SOJA\, MILHO & PECUÁRIA (Tec. Agro\, Dekalb\, Jeová) \n  \nCONFIRA AS FOTOS DO EVENTO:\n\n\n    		\n				\n				        \n            \n                \n            \n        \n							 \n			\n        \n				\n				        \n            \n                \n            \n        \n							 \n			\n        \n				\n				        \n            \n                \n            \n        \n							 \n			\n        \n				\n				        \n            \n                \n            \n        \n							 \n			\n        \n				\n				        \n            \n                \n            \n        \n							 \n			\n        \n		\n		\n		\n \n
URL:http://bravacristalina.com.br/evento/1o-dia-de-campo-brava-projeto-entre-rios/
LOCATION:Cristalina\, Goiás\, 73850-000\, Brazil
CATEGORIES:Dia de campo
END:VEVENT
END:VCALENDAR